View In:
ArcGIS JavaScript
ArcGIS Online Map Viewer
ArcGIS Earth
Service Description: CrookedComposite2
Name: CrookedComposite2
Description:
Single Fused Map Cache: false
Extent:
XMin: -9517376.62222105
YMin: 5048819.004330842
XMax: -9513318.036232756
YMax: 5052891.314436843
Spatial Reference: 102100
(3857)
LatestVCSWkid(0)
Initial Extent:
XMin: -9517376.62222105
YMin: 5048819.004330842
XMax: -9513318.036232756
YMax: 5052891.314436843
Spatial Reference: 102100
(3857)
LatestVCSWkid(0)
Full Extent:
XMin: -9517376.62222105
YMin: 5048819.004330842
XMax: -9513318.036232756
YMax: 5052891.314436843
Spatial Reference: 102100
(3857)
LatestVCSWkid(0)
Pixel Size X: 6.234387078793139
Pixel Size Y: 8.293910602853082
Band Count: 1
Pixel Type: F32
RasterFunction Infos: {"rasterFunctionInfos": [{
"name": "None",
"description": "",
"help": ""
}]}
Mensuration Capabilities: Basic
Inspection Capabilities:
Has Histograms: true
Has Colormap: false
Has Multi Dimensions : false
Rendering Rule:
Min Scale: 5.91657527591555E8
Max Scale: 564.248588
Copyright Text:
Service Data Type: esriImageServiceDataTypeGeneric
Min Values: 797.093017578125
Max Values: 984
Mean Values: 929.9755146596557
Standard Deviation Values: 29.03395287499558
Object ID Field:
Fields:
None
Default Mosaic Method: Center
Allowed Mosaic Methods:
SortField:
SortValue: null
Mosaic Operator: First
Default Compression Quality: 75
Default Resampling Method: Bilinear
Max Record Count: null
Max Image Height: 4100
Max Image Width: 15000
Max Download Image Count: null
Max Mosaic Image Count: null
Allow Raster Function: true
Allow Copy: true
Allow Analysis: true
Allow Compute TiePoints: false
Supports Statistics: false
Supports Advanced Queries: false
Use StandardizedQueries: true
Raster Type Infos:
Name: Raster Dataset
Description: Supports all ArcGIS Raster Datasets
Help:
Has Raster Attribute Table: false
Edit Fields Info: null
Ownership Based AccessControl For Rasters: null
Child Resources:
Info
Histograms
Statistics
Key Properties
Legend
Raster Function Infos
Supported Operations:
Export Image
Identify
Measure
Compute Histograms
Compute Statistics Histograms
Get Samples
Compute Class Statistics
Query Boundary
Compute Pixel Location
Compute Angles
Validate
Project