View In:
ArcGIS JavaScript
ArcGIS Online Map Viewer
ArcGIS Earth
Service Description: windspd100_in_tif
Name: windspd100_in_tif
Description:
Single Fused Map Cache: false
Extent:
XMin: 360400.0000009821
YMin: 4146199.999991063
XMax: 729800.0000009821
YMax: 4659399.999991063
Spatial Reference: 26916
(26916)
LatestVCSWkid(0)
Initial Extent:
XMin: 360400.0000009821
YMin: 4146199.999991063
XMax: 729800.0000009821
YMax: 4659399.999991063
Spatial Reference: 26916
(26916)
LatestVCSWkid(0)
Full Extent:
XMin: 360400.0000009821
YMin: 4146199.999991063
XMax: 729800.0000009821
YMax: 4659399.999991063
Spatial Reference: 26916
(26916)
LatestVCSWkid(0)
Pixel Size X: 200.0
Pixel Size Y: 200.0
Band Count: 1
Pixel Type: F32
RasterFunction Infos: {"rasterFunctionInfos": [{
"name": "None",
"description": "",
"help": ""
}]}
Mensuration Capabilities: Basic
Inspection Capabilities:
Has Histograms: true
Has Colormap: false
Has Multi Dimensions : false
Rendering Rule:
Min Scale: 0
Max Scale: 0
Copyright Text:
Service Data Type: esriImageServiceDataTypeGeneric
Min Values: 4.6742434501648
Max Values: 8.7777919769287
Mean Values: 6.9019334972833
Standard Deviation Values: 0.6546566001665
Object ID Field:
Fields:
None
Default Mosaic Method: Center
Allowed Mosaic Methods:
SortField:
SortValue: null
Mosaic Operator: First
Default Compression Quality: 75
Default Resampling Method: Bilinear
Max Record Count: null
Max Image Height: 4100
Max Image Width: 15000
Max Download Image Count: null
Max Mosaic Image Count: null
Allow Raster Function: true
Allow Copy: true
Allow Analysis: true
Allow Compute TiePoints: false
Supports Statistics: false
Supports Advanced Queries: false
Use StandardizedQueries: true
Raster Type Infos:
Name: Raster Dataset
Description: Supports all ArcGIS Raster Datasets
Help:
Has Raster Attribute Table: false
Edit Fields Info: null
Ownership Based AccessControl For Rasters: null
Child Resources:
Info
Histograms
Statistics
Key Properties
Legend
Raster Function Infos
Supported Operations:
Export Image
Identify
Measure
Compute Histograms
Compute Statistics Histograms
Get Samples
Compute Class Statistics
Query Boundary
Compute Pixel Location
Compute Angles
Validate
Project